BEGIN:VCALENDAR
VERSION:2.0
PRODID:-//Dein Vitamin B - ECPv6.15.20//NONSGML v1.0//EN
CALSCALE:GREGORIAN
METHOD:PUBLISH
X-ORIGINAL-URL:https://dein-vitamin-b.de
X-WR-CALDESC:Veranstaltungen für Dein Vitamin B
REFRESH-INTERVAL;VALUE=DURATION:PT1H
X-Robots-Tag:noindex
X-PUBLISHED-TTL:PT1H
BEGIN:VTIMEZONE
TZID:Europe/Berlin
BEGIN:DAYLIGHT
TZOFFSETFROM:+0100
TZOFFSETTO:+0200
TZNAME:CEST
DTSTART:20240331T010000
END:DAYLIGHT
BEGIN:STANDARD
TZOFFSETFROM:+0200
TZOFFSETTO:+0100
TZNAME:CET
DTSTART:20241027T010000
END:STANDARD
BEGIN:DAYLIGHT
TZOFFSETFROM:+0100
TZOFFSETTO:+0200
TZNAME:CEST
DTSTART:20250330T010000
END:DAYLIGHT
BEGIN:STANDARD
TZOFFSETFROM:+0200
TZOFFSETTO:+0100
TZNAME:CET
DTSTART:20251026T010000
END:STANDARD
BEGIN:DAYLIGHT
TZOFFSETFROM:+0100
TZOFFSETTO:+0200
TZNAME:CEST
DTSTART:20260329T010000
END:DAYLIGHT
BEGIN:STANDARD
TZOFFSETFROM:+0200
TZOFFSETTO:+0100
TZNAME:CET
DTSTART:20261025T010000
END:STANDARD
BEGIN:DAYLIGHT
TZOFFSETFROM:+0100
TZOFFSETTO:+0200
TZNAME:CEST
DTSTART:20270328T010000
END:DAYLIGHT
BEGIN:STANDARD
TZOFFSETFROM:+0200
TZOFFSETTO:+0100
TZNAME:CET
DTSTART:20271031T010000
END:STANDARD
END:VTIMEZONE
BEGIN:VEVENT
DTSTART;TZID=Europe/Berlin:20260424T100000
DTEND;TZID=Europe/Berlin:20260424T120000
DTSTAMP:20260424T174330
CREATED:20260303T111829Z
LAST-MODIFIED:20260303T111829Z
UID:4480-1777024800-1777032000@dein-vitamin-b.de
SUMMARY:Telefonische Sprechstunde am Freitag
DESCRIPTION:Beratung und Infos zur Wohnungssuche
URL:https://dein-vitamin-b.de/termin/telefonische-sprechstunde-am-freitag-38/
LOCATION:TELEFONISCH ERREICHBAR\, unter 06151-78077-20
ATTACH;FMTTYPE=image/png:https://dein-vitamin-b.de/wp-content/uploads/2025/02/Tel-Sprechstunde.png
END:VEVENT
BEGIN:VEVENT
DTSTART;TZID=Europe/Berlin:20260421T100000
DTEND;TZID=Europe/Berlin:20260421T120000
DTSTAMP:20260424T174330
CREATED:20260303T112055Z
LAST-MODIFIED:20260303T112133Z
UID:4471-1776765600-1776772800@dein-vitamin-b.de
SUMMARY:Telefonische Sprechstunde am Dienstag
DESCRIPTION:Beratung und Infos zur Wohnungssuche
URL:https://dein-vitamin-b.de/termin/telefonische-sprechstunde-am-dienstag-51/
LOCATION:TELEFONISCH ERREICHBAR\, unter 06151-78077-20
ATTACH;FMTTYPE=image/png:https://dein-vitamin-b.de/wp-content/uploads/2025/02/Tel-Sprechstunde.png
END:VEVENT
BEGIN:VEVENT
DTSTART;TZID=Europe/Berlin:20260420T120000
DTEND;TZID=Europe/Berlin:20260420T120000
DTSTAMP:20260424T174330
CREATED:20260420T070239Z
LAST-MODIFIED:20260420T070358Z
UID:4628-1776686400-1776686400@dein-vitamin-b.de
SUMMARY:INFOS ZUR WOHNUNGSSUCHE - ENTFÄLLT
DESCRIPTION:Krankheitsbedingt muss die offene Sprechstunde zur Wohnungssuche heute leider entfallen.\nVielen Dank für Ihr Verständnis.
URL:https://dein-vitamin-b.de/termin/infos-zur-wohnungssuche-entfaellt/
LOCATION:EVANGELISCHE GEMEINDE\, KIRCHSTR. 11\, 64521 GROß-GERAU
ATTACH;FMTTYPE=image/png:https://dein-vitamin-b.de/wp-content/uploads/2025/01/Hauschen-info-2.png
END:VEVENT
BEGIN:VEVENT
DTSTART;TZID=Europe/Berlin:20260417T100000
DTEND;TZID=Europe/Berlin:20260417T120000
DTSTAMP:20260424T174330
CREATED:20260303T111735Z
LAST-MODIFIED:20260303T111811Z
UID:4479-1776420000-1776427200@dein-vitamin-b.de
SUMMARY:Telefonische Sprechstunde am Freitag
DESCRIPTION:Beratung und Infos zur Wohnungssuche
URL:https://dein-vitamin-b.de/termin/telefonische-sprechstunde-am-freitag-37/
LOCATION:TELEFONISCH ERREICHBAR\, unter 06151-78077-20
ATTACH;FMTTYPE=image/png:https://dein-vitamin-b.de/wp-content/uploads/2025/02/Tel-Sprechstunde.png
END:VEVENT
BEGIN:VEVENT
DTSTART;TZID=Europe/Berlin:20260414T100000
DTEND;TZID=Europe/Berlin:20260414T120000
DTSTAMP:20260424T174330
CREATED:20260303T112309Z
LAST-MODIFIED:20260303T112309Z
UID:4474-1776160800-1776168000@dein-vitamin-b.de
SUMMARY:Telefonische Sprechstunde am Dienstag
DESCRIPTION:Beratung und Infos zur Wohnungssuche
URL:https://dein-vitamin-b.de/termin/telefonische-sprechstunde-am-dienstag-53/
LOCATION:TELEFONISCH ERREICHBAR\, unter 06151-78077-20
ATTACH;FMTTYPE=image/png:https://dein-vitamin-b.de/wp-content/uploads/2025/02/Tel-Sprechstunde.png
END:VEVENT
BEGIN:VEVENT
DTSTART;TZID=Europe/Berlin:20260410T100000
DTEND;TZID=Europe/Berlin:20260410T120000
DTSTAMP:20260424T174330
CREATED:20260303T111715Z
LAST-MODIFIED:20260303T111715Z
UID:4478-1775815200-1775822400@dein-vitamin-b.de
SUMMARY:Telefonische Sprechstunde am Freitag
DESCRIPTION:Beratung und Infos zur Wohnungssuche
URL:https://dein-vitamin-b.de/termin/telefonische-sprechstunde-am-freitag-36/
LOCATION:TELEFONISCH ERREICHBAR\, unter 06151-78077-20
ATTACH;FMTTYPE=image/png:https://dein-vitamin-b.de/wp-content/uploads/2025/02/Tel-Sprechstunde.png
END:VEVENT
BEGIN:VEVENT
DTSTART;TZID=Europe/Berlin:20260407T100000
DTEND;TZID=Europe/Berlin:20260407T120000
DTSTAMP:20260424T174330
CREATED:20260303T112038Z
LAST-MODIFIED:20260303T112038Z
UID:4470-1775556000-1775563200@dein-vitamin-b.de
SUMMARY:Telefonische Sprechstunde am Dienstag
DESCRIPTION:Beratung und Infos zur Wohnungssuche
URL:https://dein-vitamin-b.de/termin/telefonische-sprechstunde-am-dienstag-50/
LOCATION:TELEFONISCH ERREICHBAR\, unter 06151-78077-20
ATTACH;FMTTYPE=image/png:https://dein-vitamin-b.de/wp-content/uploads/2025/02/Tel-Sprechstunde.png
END:VEVENT
BEGIN:VEVENT
DTSTART;TZID=Europe/Berlin:20260331T100000
DTEND;TZID=Europe/Berlin:20260331T120000
DTSTAMP:20260424T174330
CREATED:20260303T112013Z
LAST-MODIFIED:20260303T112013Z
UID:4469-1774951200-1774958400@dein-vitamin-b.de
SUMMARY:Telefonische Sprechstunde am Dienstag
DESCRIPTION:Beratung und Infos zur Wohnungssuche
URL:https://dein-vitamin-b.de/termin/telefonische-sprechstunde-am-dienstag-49/
LOCATION:TELEFONISCH ERREICHBAR\, unter 06151-78077-20
ATTACH;FMTTYPE=image/png:https://dein-vitamin-b.de/wp-content/uploads/2025/02/Tel-Sprechstunde.png
END:VEVENT
BEGIN:VEVENT
DTSTART;TZID=Europe/Berlin:20260327T100000
DTEND;TZID=Europe/Berlin:20260327T120000
DTSTAMP:20260424T174330
CREATED:20260303T111633Z
LAST-MODIFIED:20260303T111633Z
UID:4477-1774605600-1774612800@dein-vitamin-b.de
SUMMARY:Telefonische Sprechstunde am Freitag
DESCRIPTION:Beratung und Infos zur Wohnungssuche
URL:https://dein-vitamin-b.de/termin/telefonische-sprechstunde-am-freitag-35/
LOCATION:TELEFONISCH ERREICHBAR\, unter 06151-78077-20
ATTACH;FMTTYPE=image/png:https://dein-vitamin-b.de/wp-content/uploads/2025/02/Tel-Sprechstunde.png
END:VEVENT
BEGIN:VEVENT
DTSTART;TZID=Europe/Berlin:20260324T100000
DTEND;TZID=Europe/Berlin:20260324T120000
DTSTAMP:20260424T174330
CREATED:20260303T111959Z
LAST-MODIFIED:20260303T111959Z
UID:4468-1774346400-1774353600@dein-vitamin-b.de
SUMMARY:Telefonische Sprechstunde am Dienstag
DESCRIPTION:Beratung und Infos zur Wohnungssuche
URL:https://dein-vitamin-b.de/termin/telefonische-sprechstunde-am-dienstag-48/
LOCATION:TELEFONISCH ERREICHBAR\, unter 06151-78077-20
ATTACH;FMTTYPE=image/png:https://dein-vitamin-b.de/wp-content/uploads/2025/02/Tel-Sprechstunde.png
END:VEVENT
BEGIN:VEVENT
DTSTART;TZID=Europe/Berlin:20260320T100000
DTEND;TZID=Europe/Berlin:20260320T120000
DTSTAMP:20260424T174330
CREATED:20260303T111615Z
LAST-MODIFIED:20260303T111615Z
UID:4476-1774000800-1774008000@dein-vitamin-b.de
SUMMARY:Telefonische Sprechstunde am Freitag
DESCRIPTION:Beratung und Infos zur Wohnungssuche
URL:https://dein-vitamin-b.de/termin/telefonische-sprechstunde-am-freitag-34/
LOCATION:TELEFONISCH ERREICHBAR\, unter 06151-78077-20
ATTACH;FMTTYPE=image/png:https://dein-vitamin-b.de/wp-content/uploads/2025/02/Tel-Sprechstunde.png
END:VEVENT
BEGIN:VEVENT
DTSTART;TZID=Europe/Berlin:20260317T100000
DTEND;TZID=Europe/Berlin:20260317T120000
DTSTAMP:20260424T174330
CREATED:20260303T111937Z
LAST-MODIFIED:20260303T111937Z
UID:4467-1773741600-1773748800@dein-vitamin-b.de
SUMMARY:Telefonische Sprechstunde am Dienstag
DESCRIPTION:Beratung und Infos zur Wohnungssuche
URL:https://dein-vitamin-b.de/termin/telefonische-sprechstunde-am-dienstag-47/
LOCATION:TELEFONISCH ERREICHBAR\, unter 06151-78077-20
ATTACH;FMTTYPE=image/png:https://dein-vitamin-b.de/wp-content/uploads/2025/02/Tel-Sprechstunde.png
END:VEVENT
BEGIN:VEVENT
DTSTART;TZID=Europe/Berlin:20260313T100000
DTEND;TZID=Europe/Berlin:20260313T120000
DTSTAMP:20260424T174330
CREATED:20260303T111551Z
LAST-MODIFIED:20260303T111551Z
UID:4475-1773396000-1773403200@dein-vitamin-b.de
SUMMARY:Telefonische Sprechstunde am Freitag
DESCRIPTION:Beratung und Infos zur Wohnungssuche
URL:https://dein-vitamin-b.de/termin/telefonische-sprechstunde-am-freitag-33/
LOCATION:TELEFONISCH ERREICHBAR\, unter 06151-78077-20
ATTACH;FMTTYPE=image/png:https://dein-vitamin-b.de/wp-content/uploads/2025/02/Tel-Sprechstunde.png
END:VEVENT
BEGIN:VEVENT
DTSTART;TZID=Europe/Berlin:20260310T100000
DTEND;TZID=Europe/Berlin:20260310T120000
DTSTAMP:20260424T174330
CREATED:20260203T093538Z
LAST-MODIFIED:20260303T111911Z
UID:4443-1773136800-1773144000@dein-vitamin-b.de
SUMMARY:Telefonische Sprechstunde am Dienstag
DESCRIPTION:Beratung und Infos zur Wohnungssuche
URL:https://dein-vitamin-b.de/termin/telefonische-sprechstunde-am-dienstag-46/
LOCATION:TELEFONISCH ERREICHBAR\, unter 06151-78077-20
ATTACH;FMTTYPE=image/png:https://dein-vitamin-b.de/wp-content/uploads/2025/02/Tel-Sprechstunde.png
END:VEVENT
BEGIN:VEVENT
DTSTART;TZID=Europe/Berlin:20260306T100000
DTEND;TZID=Europe/Berlin:20260306T120000
DTSTAMP:20260424T174330
CREATED:20260303T112959Z
LAST-MODIFIED:20260303T112959Z
UID:4495-1772791200-1772798400@dein-vitamin-b.de
SUMMARY:Telefonische Sprechstunde am Freitag
DESCRIPTION:Beratung und Infos zur Wohnungssuche
URL:https://dein-vitamin-b.de/termin/telefonische-sprechstunde-am-freitag-39/
LOCATION:TELEFONISCH ERREICHBAR\, unter 06151-78077-20
ATTACH;FMTTYPE=image/png:https://dein-vitamin-b.de/wp-content/uploads/2025/02/Tel-Sprechstunde.png
END:VEVENT
BEGIN:VEVENT
DTSTART;TZID=Europe/Berlin:20260227T100000
DTEND;TZID=Europe/Berlin:20260227T120000
DTSTAMP:20260424T174330
CREATED:20260203T093424Z
LAST-MODIFIED:20260203T093424Z
UID:4440-1772186400-1772193600@dein-vitamin-b.de
SUMMARY:Telefonische Sprechstunde am Freitag
DESCRIPTION:Beratung und Infos zur Wohnungssuche
URL:https://dein-vitamin-b.de/termin/telefonische-sprechstunde-am-freitag-32/
LOCATION:TELEFONISCH ERREICHBAR\, unter 06151-78077-20
ATTACH;FMTTYPE=image/png:https://dein-vitamin-b.de/wp-content/uploads/2025/02/Tel-Sprechstunde.png
END:VEVENT
BEGIN:VEVENT
DTSTART;TZID=Europe/Berlin:20260224T100000
DTEND;TZID=Europe/Berlin:20260224T120000
DTSTAMP:20260424T174330
CREATED:20260203T093516Z
LAST-MODIFIED:20260203T093516Z
UID:4442-1771927200-1771934400@dein-vitamin-b.de
SUMMARY:Telefonische Sprechstunde am Dienstag
DESCRIPTION:Beratung und Infos zur Wohnungssuche
URL:https://dein-vitamin-b.de/termin/telefonische-sprechstunde-am-dienstag-45/
LOCATION:TELEFONISCH ERREICHBAR\, unter 06151-78077-20
ATTACH;FMTTYPE=image/png:https://dein-vitamin-b.de/wp-content/uploads/2025/02/Tel-Sprechstunde.png
END:VEVENT
BEGIN:VEVENT
DTSTART;TZID=Europe/Berlin:20260220T100000
DTEND;TZID=Europe/Berlin:20260220T120000
DTSTAMP:20260424T174330
CREATED:20260203T093406Z
LAST-MODIFIED:20260203T093406Z
UID:4439-1771581600-1771588800@dein-vitamin-b.de
SUMMARY:Telefonische Sprechstunde am Freitag
DESCRIPTION:Beratung und Infos zur Wohnungssuche
URL:https://dein-vitamin-b.de/termin/telefonische-sprechstunde-am-freitag-31/
LOCATION:TELEFONISCH ERREICHBAR\, unter 06151-78077-20
ATTACH;FMTTYPE=image/png:https://dein-vitamin-b.de/wp-content/uploads/2025/02/Tel-Sprechstunde.png
END:VEVENT
BEGIN:VEVENT
DTSTART;TZID=Europe/Berlin:20260217T100000
DTEND;TZID=Europe/Berlin:20260217T120000
DTSTAMP:20260424T174330
CREATED:20260203T093454Z
LAST-MODIFIED:20260203T093454Z
UID:4441-1771322400-1771329600@dein-vitamin-b.de
SUMMARY:Telefonische Sprechstunde am Dienstag
DESCRIPTION:Beratung und Infos zur Wohnungssuche
URL:https://dein-vitamin-b.de/termin/telefonische-sprechstunde-am-dienstag-44/
LOCATION:TELEFONISCH ERREICHBAR\, unter 06151-78077-20
ATTACH;FMTTYPE=image/png:https://dein-vitamin-b.de/wp-content/uploads/2025/02/Tel-Sprechstunde.png
END:VEVENT
BEGIN:VEVENT
DTSTART;TZID=Europe/Berlin:20260213T100000
DTEND;TZID=Europe/Berlin:20260213T120000
DTSTAMP:20260424T174330
CREATED:20260203T093350Z
LAST-MODIFIED:20260203T093350Z
UID:4438-1770976800-1770984000@dein-vitamin-b.de
SUMMARY:Telefonische Sprechstunde am Freitag
DESCRIPTION:Beratung und Infos zur Wohnungssuche
URL:https://dein-vitamin-b.de/termin/telefonische-sprechstunde-am-freitag-30/
LOCATION:TELEFONISCH ERREICHBAR\, unter 06151-78077-20
ATTACH;FMTTYPE=image/png:https://dein-vitamin-b.de/wp-content/uploads/2025/02/Tel-Sprechstunde.png
END:VEVENT
BEGIN:VEVENT
DTSTART;TZID=Europe/Berlin:20260210T100000
DTEND;TZID=Europe/Berlin:20260210T120000
DTSTAMP:20260424T174330
CREATED:20260114T121724Z
LAST-MODIFIED:20260114T121727Z
UID:4425-1770717600-1770724800@dein-vitamin-b.de
SUMMARY:Telefonische Sprechstunde am Dienstag
DESCRIPTION:Beratung und Infos zur Wohnungssuche
URL:https://dein-vitamin-b.de/termin/telefonische-sprechstunde-am-dienstag-43/
LOCATION:TELEFONISCH ERREICHBAR\, unter 06151-78077-20
ATTACH;FMTTYPE=image/png:https://dein-vitamin-b.de/wp-content/uploads/2025/02/Tel-Sprechstunde.png
END:VEVENT
BEGIN:VEVENT
DTSTART;TZID=Europe/Berlin:20260206T100000
DTEND;TZID=Europe/Berlin:20260206T120000
DTSTAMP:20260424T174330
CREATED:20260203T093328Z
LAST-MODIFIED:20260203T093328Z
UID:4437-1770372000-1770379200@dein-vitamin-b.de
SUMMARY:Telefonische Sprechstunde am Freitag
DESCRIPTION:Beratung und Infos zur Wohnungssuche
URL:https://dein-vitamin-b.de/termin/telefonische-sprechstunde-am-freitag-29/
LOCATION:TELEFONISCH ERREICHBAR\, unter 06151-78077-20
ATTACH;FMTTYPE=image/png:https://dein-vitamin-b.de/wp-content/uploads/2025/02/Tel-Sprechstunde.png
END:VEVENT
BEGIN:VEVENT
DTSTART;TZID=Europe/Berlin:20260203T100000
DTEND;TZID=Europe/Berlin:20260203T120000
DTSTAMP:20260424T174330
CREATED:20260114T121706Z
LAST-MODIFIED:20260114T121706Z
UID:4424-1770112800-1770120000@dein-vitamin-b.de
SUMMARY:Telefonische Sprechstunde am Dienstag
DESCRIPTION:Beratung und Infos zur Wohnungssuche
URL:https://dein-vitamin-b.de/termin/telefonische-sprechstunde-am-dienstag-42/
LOCATION:TELEFONISCH ERREICHBAR\, unter 06151-78077-20
ATTACH;FMTTYPE=image/png:https://dein-vitamin-b.de/wp-content/uploads/2025/02/Tel-Sprechstunde.png
END:VEVENT
BEGIN:VEVENT
DTSTART;TZID=Europe/Berlin:20260130T100000
DTEND;TZID=Europe/Berlin:20260130T120000
DTSTAMP:20260424T174330
CREATED:20260114T121431Z
LAST-MODIFIED:20260114T121610Z
UID:4429-1769767200-1769774400@dein-vitamin-b.de
SUMMARY:Telefonische Sprechstunde am Freitag
DESCRIPTION:Beratung und Infos zur Wohnungssuche
URL:https://dein-vitamin-b.de/termin/telefonische-sprechstunde-am-freitag-28/
LOCATION:TELEFONISCH ERREICHBAR\, unter 06151-78077-20
ATTACH;FMTTYPE=image/png:https://dein-vitamin-b.de/wp-content/uploads/2025/02/Tel-Sprechstunde.png
END:VEVENT
BEGIN:VEVENT
DTSTART;TZID=Europe/Berlin:20260127T100000
DTEND;TZID=Europe/Berlin:20260127T120000
DTSTAMP:20260424T174330
CREATED:20260114T121648Z
LAST-MODIFIED:20260114T121648Z
UID:4423-1769508000-1769515200@dein-vitamin-b.de
SUMMARY:Telefonische Sprechstunde am Dienstag
DESCRIPTION:Beratung und Infos zur Wohnungssuche
URL:https://dein-vitamin-b.de/termin/telefonische-sprechstunde-am-dienstag-41/
LOCATION:TELEFONISCH ERREICHBAR\, unter 06151-78077-20
ATTACH;FMTTYPE=image/png:https://dein-vitamin-b.de/wp-content/uploads/2025/02/Tel-Sprechstunde.png
END:VEVENT
BEGIN:VEVENT
DTSTART;TZID=Europe/Berlin:20260123T100000
DTEND;TZID=Europe/Berlin:20260123T120000
DTSTAMP:20260424T174330
CREATED:20260114T121357Z
LAST-MODIFIED:20260114T121404Z
UID:4428-1769162400-1769169600@dein-vitamin-b.de
SUMMARY:Telefonische Sprechstunde am Freitag
DESCRIPTION:Beratung und Infos zur Wohnungssuche
URL:https://dein-vitamin-b.de/termin/telefonische-sprechstunde-am-freitag-27/
LOCATION:TELEFONISCH ERREICHBAR\, unter 06151-78077-20
ATTACH;FMTTYPE=image/png:https://dein-vitamin-b.de/wp-content/uploads/2025/02/Tel-Sprechstunde.png
END:VEVENT
BEGIN:VEVENT
DTSTART;TZID=Europe/Berlin:20260120T100000
DTEND;TZID=Europe/Berlin:20260120T120000
DTSTAMP:20260424T174330
CREATED:20260114T121633Z
LAST-MODIFIED:20260114T121633Z
UID:4422-1768903200-1768910400@dein-vitamin-b.de
SUMMARY:Telefonische Sprechstunde am Dienstag
DESCRIPTION:Beratung und Infos zur Wohnungssuche
URL:https://dein-vitamin-b.de/termin/telefonische-sprechstunde-am-dienstag-40/
LOCATION:TELEFONISCH ERREICHBAR\, unter 06151-78077-20
ATTACH;FMTTYPE=image/png:https://dein-vitamin-b.de/wp-content/uploads/2025/02/Tel-Sprechstunde.png
END:VEVENT
BEGIN:VEVENT
DTSTART;TZID=Europe/Berlin:20260116T100000
DTEND;TZID=Europe/Berlin:20260116T120000
DTSTAMP:20260424T174330
CREATED:20260114T121104Z
LAST-MODIFIED:20260114T121104Z
UID:4427-1768557600-1768564800@dein-vitamin-b.de
SUMMARY:Telefonische Sprechstunde am Freitag
DESCRIPTION:Beratung und Infos zur Wohnungssuche
URL:https://dein-vitamin-b.de/termin/telefonische-sprechstunde-am-freitag-26/
LOCATION:TELEFONISCH ERREICHBAR\, unter 06151-78077-20
ATTACH;FMTTYPE=image/png:https://dein-vitamin-b.de/wp-content/uploads/2025/02/Tel-Sprechstunde.png
END:VEVENT
BEGIN:VEVENT
DTSTART;TZID=Europe/Berlin:20251230T100000
DTEND;TZID=Europe/Berlin:20251230T120000
DTSTAMP:20260424T174330
CREATED:20251125T121037Z
LAST-MODIFIED:20251125T121037Z
UID:4408-1767088800-1767096000@dein-vitamin-b.de
SUMMARY:Telefonische Sprechstunde am Dienstag
DESCRIPTION:Beratung und Infos zur Wohnungssuche
URL:https://dein-vitamin-b.de/termin/telefonische-sprechstunde-am-dienstag-39/
LOCATION:TELEFONISCH ERREICHBAR\, unter 06151-78077-20
ATTACH;FMTTYPE=image/png:https://dein-vitamin-b.de/wp-content/uploads/2025/02/Tel-Sprechstunde.png
END:VEVENT
BEGIN:VEVENT
DTSTART;TZID=Europe/Berlin:20251223T100000
DTEND;TZID=Europe/Berlin:20251223T120000
DTSTAMP:20260424T174330
CREATED:20251125T121010Z
LAST-MODIFIED:20251125T121015Z
UID:4402-1766484000-1766491200@dein-vitamin-b.de
SUMMARY:Telefonische Sprechstunde am Dienstag
DESCRIPTION:Beratung und Infos zur Wohnungssuche
URL:https://dein-vitamin-b.de/termin/telefonische-sprechstunde-am-dienstag-38/
LOCATION:TELEFONISCH ERREICHBAR\, unter 06151-78077-20
ATTACH;FMTTYPE=image/png:https://dein-vitamin-b.de/wp-content/uploads/2025/02/Tel-Sprechstunde.png
END:VEVENT
END:VCALENDAR